BEGIN:VCALENDAR
VERSION:2.0
PRODID:-//Jasper Blom - ECPv4.6.22//NONSGML v1.0//EN
CALSCALE:GREGORIAN
METHOD:PUBLISH
X-WR-CALNAME:Jasper Blom
X-ORIGINAL-URL:https://jasperblom.com
X-WR-CALDESC:Events for Jasper Blom
BEGIN:VEVENT
DTSTART;TZID=UTC+0:20190705T083000
DTEND;TZID=UTC+0:20190705T230000
DTSTAMP:20260420T044505
CREATED:20190202T203655Z
LAST-MODIFIED:20190202T203655Z
UID:437-1562315400-1562367600@jasperblom.com
SUMMARY:ZILT featuring Ian Cleaver and Jasper Blom live at Concertgebouw Amsterdam
DESCRIPTION:ZILT a quartet featuring new Dutch trumpet talent Ian Cleaver and old Dutch saxophone talent Jasper Blom together with Wouter Kühne and Thomas Poll on drums / bass. \n \n
URL:https://jasperblom.com/index.php/event/zilt-featuring-ian-cleaver-and-jasper-blom-live-at-concertgebouw-amsterdam/
LOCATION:Concertgebouw Amsterdam\, Concertgebouwplein 10\, Amsterdam\, 1071 LN
ATTACH;FMTTYPE=image/jpeg:https://jasperblom.com/wp-content/uploads/2019/02/49132279_134673597427058_1513328496930193408_n.jpg
ORGANIZER;CN="Concertgebouw%20Amsterdam":MAILTO:contact@concertgebouw.nl
END:VEVENT
END:VCALENDAR