BEGIN:VCALENDAR
VERSION:2.0
PRODID:-//Jasper Blom - ECPv4.6.22//NONSGML v1.0//EN
CALSCALE:GREGORIAN
METHOD:PUBLISH
X-WR-CALNAME:Jasper Blom
X-ORIGINAL-URL:https://jasperblom.com
X-WR-CALDESC:Events for Jasper Blom
BEGIN:VEVENT
DTSTART;TZID=UTC+0:20250302T030000
DTEND;TZID=UTC+0:20250302T170000
DTSTAMP:20260419T170912
CREATED:20250206T140112Z
LAST-MODIFIED:20250206T140112Z
UID:977-1740884400-1740934800@jasperblom.com
SUMMARY:Zack Lober's NO FILL3R feat. Jasper Blom
DESCRIPTION:Suzan Veneman; Zack Lober; Sun-Mi Hong; Jasper Blom; NO FILL3R; 2024; Govert Driessen \nFollowing the critically acclaimed reception of Zack Lober’s debut album NO FILL3R\, hailed by the Jazz press as “quietly adventurous” (Downbeat Magazine) and “deceptively intense and seductive” (All About Jazz)\, the trio featuring Dutch wave-makers Sun-Mi Hong (drums) and Suzan Veneman (trumpet) returns with brand new music and the addition of a special guest\, Dutch tenor saxophone legend Jasper Blom. In the spirit of the group’s original concept\, the music celebrates the perfect marriage of catchy\, singable songs with fierce moments of spontaneous collective improvisation. A must see show for any Jazz fan. \n
URL:https://jasperblom.com/index.php/event/zack-lobers-no-fill3r-feat-jasper-blom-2/
LOCATION:Feerwerd\, Kerkje\, Feerwerd\, Friesland\, Netherlands
CATEGORIES:Zack Lober's NO FILL3R feat. Jasper Blom
ATTACH;FMTTYPE=image/jpeg:https://jasperblom.com/wp-content/uploads/2025/02/NO-FILL3R-bandpic.jpg
END:VEVENT
END:VCALENDAR