BEGIN:VCALENDAR
VERSION:2.0
PRODID:-//Jasper Blom - ECPv4.6.22//NONSGML v1.0//EN
CALSCALE:GREGORIAN
METHOD:PUBLISH
X-WR-CALNAME:Jasper Blom
X-ORIGINAL-URL:https://jasperblom.com
X-WR-CALDESC:Events for Jasper Blom
BEGIN:VEVENT
DTSTART;TZID=UTC+0:20200204T203000
DTEND;TZID=UTC+0:20200204T203000
DTSTAMP:20260420T011833
CREATED:20200107T001808Z
LAST-MODIFIED:20200107T095829Z
UID:637-1580848200-1580848200@jasperblom.com
SUMMARY:WonderYears
DESCRIPTION:trio WonderYears featuring Felix Schlarmann and Sean Fasciani dedicated to the music of Stevie Wonder. \nIn a short period of time\, Stevie Wonder caused a musical earthquake in the seventies when he released a couple of legendary pop albums. Almost all of the songs from that era became instant classics and now belong to the soundtrack of many people’s lives. But Stevie’s mix of funk grooves\, jazz harmonies and catchy melodies is not only the favourite of many dance parties and car stereos. His music seems to embody a perfect invitation for jazz improvisers. \nJasper Blom\, Sean Fasciani and Felix Schlarmann present you an exclusive Stevie Wonder program. As trio with a jazz line-up of sax\, bass and drums they bring an ode to one of the most creative musical minds of the twentieth century. \n
URL:https://jasperblom.com/index.php/event/wonderyears-6/
LOCATION:September\, Grote Markt 26\, Den Haag\, Zuid-Holland\, 2511 BG\, Netherlands
CATEGORIES:WonderYears
ATTACH;FMTTYPE=image/jpeg:https://jasperblom.com/wp-content/uploads/2019/06/wonder.years_.jpg
ORGANIZER;CN="http%3A%2F%2Fwww.gmdh.nl%2Fseptember%2F":MAILTO:info@september.nl
END:VEVENT
END:VCALENDAR