BEGIN:VCALENDAR
VERSION:2.0
PRODID:-//Jasper Blom - ECPv4.6.22//NONSGML v1.0//EN
CALSCALE:GREGORIAN
METHOD:PUBLISH
X-WR-CALNAME:Jasper Blom
X-ORIGINAL-URL:https://jasperblom.com
X-WR-CALDESC:Events for Jasper Blom
BEGIN:VEVENT
DTSTART;TZID=UTC+0:20181215T200000
DTEND;TZID=UTC+0:20181215T230000
DTSTAMP:20260420T060901
CREATED:20180907T201759Z
LAST-MODIFIED:20180928T155900Z
UID:332-1544904000-1544914800@jasperblom.com
SUMMARY:POLYPHONY JASPER BLOM QUARTET + BERT JORIS & NILS WOGRAM
DESCRIPTION:Proudly celebrating our double live CD release  “POLYPHONY” out on UK label Whirlwind Recordings\, the Jasper Blom Quartet together with Bert Joris and Nils Wogram brings an evening of Jazz inspired by medieval polyphony and contemporary  tonality. \n
URL:https://jasperblom.com/index.php/event/polyphony-jasper-blom-quartet-with-bert-joris-and-nils-wogram/
LOCATION:In het Koorenhuis Den Haag\, Prinsegracht 27\, Den Haag\, ZH\, 2512 EW
ATTACH;FMTTYPE=image/png:https://jasperblom.com/wp-content/uploads/2018/07/2.png
ORGANIZER;CN="projazz":MAILTO:info@projazz.nl
END:VEVENT
END:VCALENDAR