BEGIN:VCALENDAR
VERSION:2.0
PRODID:-//Jasper Blom - ECPv4.6.22//NONSGML v1.0//EN
CALSCALE:GREGORIAN
METHOD:PUBLISH
X-WR-CALNAME:Jasper Blom
X-ORIGINAL-URL:https://jasperblom.com
X-WR-CALDESC:Events for Jasper Blom
BEGIN:VEVENT
DTSTART;TZID=UTC+0:20190406T200000
DTEND;TZID=UTC+0:20190406T220000
DTSTAMP:20260420T030322
CREATED:20180907T205837Z
LAST-MODIFIED:20180928T155703Z
UID:354-1554580800-1554588000@jasperblom.com
SUMMARY:POLYPHONY JASPER BLOM QUARTET + BERT JORIS & NILS WOGRAM
DESCRIPTION:Proudly celebrating our double live CD release  “POLYPHONY” out on UK label Whirlwind Recordings\, the Jasper Blom Quartet together with Bert Joris and Nils Wogram brings an evening of Jazz inspired by medieval polyphony and contemporary  tonality. \n
URL:https://jasperblom.com/index.php/event/polyphony-jasper-blom-quartet-with-bert-joris-and-nils-wogram-4/
LOCATION:CC De Kern\, Kern 18\, Wilrijk\, Antwerpen\, 2610\, Belgium
ATTACH;FMTTYPE=image/png:https://jasperblom.com/wp-content/uploads/2018/07/2.png
ORGANIZER;CN="www.insidejazz.be":MAILTO:info@insidejazz.be
END:VEVENT
END:VCALENDAR