BEGIN:VCALENDAR
VERSION:2.0
PRODID:-//Jasper Blom - ECPv4.6.22//NONSGML v1.0//EN
CALSCALE:GREGORIAN
METHOD:PUBLISH
X-WR-CALNAME:Jasper Blom
X-ORIGINAL-URL:https://jasperblom.com
X-WR-CALDESC:Events for Jasper Blom
BEGIN:VEVENT
DTSTART;TZID=UTC+0:20190222T200000
DTEND;TZID=UTC+0:20190222T220000
DTSTAMP:20260420T044051
CREATED:20180907T205323Z
LAST-MODIFIED:20180928T154846Z
UID:350-1550865600-1550872800@jasperblom.com
SUMMARY:POLYPHONY Jasper Blom Quartet with Bert Joris
DESCRIPTION:Proudly celebrating our double live CD release  “POLYPHONY” out on UK label Whirlwind Recordings\, the Jasper Blom Quartet together with Bert Joris and Nils Wogram brings an evening of Jazz inspired by medieval polyphony and contemporary  tonality. \n
URL:https://jasperblom.com/index.php/event/polyphony-jasper-blom-quartet-with-bert-joris-2/
LOCATION:CC Mol\, Smallestraat 2\, Mol\, 2400\, Belgium
ATTACH;FMTTYPE=image/png:https://jasperblom.com/wp-content/uploads/2018/07/2.png
ORGANIZER;CN="www.insidejazz.be":MAILTO:info@insidejazz.be
END:VEVENT
END:VCALENDAR