BEGIN:VCALENDAR
VERSION:2.0
PRODID:-//Jasper Blom - ECPv4.6.22//NONSGML v1.0//EN
CALSCALE:GREGORIAN
METHOD:PUBLISH
X-WR-CALNAME:Jasper Blom
X-ORIGINAL-URL:https://jasperblom.com
X-WR-CALDESC:Events for Jasper Blom
BEGIN:VEVENT
DTSTART;TZID=UTC+0:20191130T203000
DTEND;TZID=UTC+0:20191130T233000
DTSTAMP:20260420T011858
CREATED:20190201T153748Z
LAST-MODIFIED:20190201T153748Z
UID:418-1575145800-1575156600@jasperblom.com
SUMMARY:POLYPHONY JASPER BLOM QUARTET + NILS WOGRAM
DESCRIPTION:Proudly celebrating our double live CD release  “POLYPHONY” out on UK label Whirlwind Recordings\, the Jasper Blom Quartet together with Bert Joris and Nils Wogram brings an evening of Jazz inspired by medieval polyphony and contemporary  tonality. \n
URL:https://jasperblom.com/index.php/event/polyphony-jasper-blom-quartet-nils-wogram/
LOCATION:Mahogany Hall\, Zeevangszeedijk 7\, Edam\, NH\, 1135 PZ\, Netherlands
ATTACH;FMTTYPE=image/png:https://jasperblom.com/wp-content/uploads/2019/02/1-kopie.png
ORGANIZER;CN="stichting%20Mahogany%20Hall":MAILTO:info@mahoganyhall.nl/
END:VEVENT
END:VCALENDAR