BEGIN:VCALENDAR
VERSION:2.0
PRODID:-//Jasper Blom - ECPv4.6.22//NONSGML v1.0//EN
CALSCALE:GREGORIAN
METHOD:PUBLISH
X-WR-CALNAME:Jasper Blom
X-ORIGINAL-URL:https://jasperblom.com
X-WR-CALDESC:Events for Jasper Blom
BEGIN:VEVENT
DTSTART;VALUE=DATE:20190721
DTEND;VALUE=DATE:20190722
DTSTAMP:20260420T030046
CREATED:20190401T094111Z
LAST-MODIFIED:20190401T094246Z
UID:447-1563667200-1563753599@jasperblom.com
SUMMARY:POLYPHONY JASPER BLOM QUARTET + BERT JORIS
DESCRIPTION:Proudly celebrating our double live CD release “POLYPHONY” out on UK label Whirlwind Recordings\, the Jasper Blom Quartet together with Bert Joris brings an evening of Jazz inspired by medieval polyphony and contemporary tonality. \n
URL:https://jasperblom.com/index.php/event/polyphony-jasper-blom-quartet-bert-joris/
LOCATION:landgoed schaep en burg\, Noordereinde 60\, 's-Graveland\, Utrecht\, 1243 JJ\, Netherlands
ATTACH;FMTTYPE=image/png:https://jasperblom.com/wp-content/uploads/2019/02/1-kopie.png
ORGANIZER;CN="Wonderfeel":MAILTO:info@wonderfeel.nl
END:VEVENT
END:VCALENDAR