BEGIN:VCALENDAR
VERSION:2.0
PRODID:-//Jasper Blom - ECPv4.6.22//NONSGML v1.0//EN
CALSCALE:GREGORIAN
METHOD:PUBLISH
X-WR-CALNAME:Jasper Blom
X-ORIGINAL-URL:https://jasperblom.com
X-WR-CALDESC:Events for Jasper Blom
BEGIN:VEVENT
DTSTART;TZID=UTC+0:20230518T203000
DTEND;TZID=UTC+0:20230518T230000
DTSTAMP:20260419T153107
CREATED:20230127T084953Z
LAST-MODIFIED:20230127T084953Z
UID:879-1684441800-1684450800@jasperblom.com
SUMMARY:POLYPHONY 3 :New album release JASPER BLOM QUARTET W PABLO HELD
DESCRIPTION:JASPER BLOM QUARTET with PABLO HELD \nThe Jasper Blom Quartet features four internationally acclaimed Dutch jazz\nmusicians\, that have been together for more than 12 years. Blom’s intelligent\ncompositions cover a wide range of stylistic influences. Supported by the stellar\nplaying of guitarist Jesse van Ruller and one of the most amazing European jazz\ndrummers\, Martijn Vink\, the Jasper Blom Quartet is a true showcase of what melody\,\nrhythm and harmony have to offer in composition and improvisation. The JBQ\nperforms regularly throughout Europe on major international festivals and in clubs.\nRecently the JBQ has started working with internationally acclaimed soloists.\nUnder the name “POLYPHONY” the JBQ has started working with internationally\nacclaimed soloists. POLYPHONY started with Blom’s fascination for 15th century\nmedieval polyphonic music. Inspired by French and Flemish masters like de\nMachaut\, Dufay and Ockeghem\, Blom composed his own version of medieval\npolyphonic music for jazz quintet with guest soloist Bert Joris.\nFrom there\, Blom developed a more improvisational approach of polyphony based\non 20th century influences like Bartok and Hindemith combining this with the old\nmedieval Hoketus technique and invited German star trombonist Nils Wogram to\nshare the stage.\nIn POLYPHONY PART THREE\, the Tone-clock system as developed by the Dutch\nclassical composer Peter Schat is the departure point for newly composed music.\nSymmetrical tone rows and triads generated by the tone-clock system create new\nmelodies\, new harmonies and new improvisation material.\nIn POLYPHONY PART THREE\, one of the most prominent figures of the young\nGerman jazz generation\, pianist Pablo Held is featured .\nSince winning the Rising Star Award of the European Concert Hall Organization\, Pablo Held is touring the\nworld with his trio. Absolute highlights are his collaborations with John Scofield and Chris Potter. \nfor recent concert news and reviews of the Jasper Blom Quartet click here -> https://www.facebook.com/Jasperblomquartet/ \n  \n
URL:https://jasperblom.com/index.php/event/polyphony-3-new-album-release-jasper-blom-quartet-w-pablo-held-2/
LOCATION:Brouwerij Martinus\, Kostersgang 32-34\, Groningen\, Groningen\, 9711 CX\, Netherlands
CATEGORIES:JBQ plus Pablo Held,POLYPHONY 3 :Album release tour JASPER BLOM QUARTET W PABLO HELD
ATTACH;FMTTYPE=image/jpeg:https://jasperblom.com/wp-content/uploads/2019/06/JBQ-plus-Pablo-Held-WEB-kopie.jpg
END:VEVENT
END:VCALENDAR