BEGIN:VCALENDAR
VERSION:2.0
PRODID:-//Jasper Blom - ECPv4.6.22//NONSGML v1.0//EN
CALSCALE:GREGORIAN
METHOD:PUBLISH
X-WR-CALNAME:Jasper Blom
X-ORIGINAL-URL:https://jasperblom.com
X-WR-CALDESC:Events for Jasper Blom
BEGIN:VEVENT
DTSTART;TZID=UTC+0:20201023T203000
DTEND;TZID=UTC+0:20201023T233000
DTSTAMP:20260419T190232
CREATED:20200910T123111Z
LAST-MODIFIED:20201019T213936Z
UID:724-1603485000-1603495800@jasperblom.com
SUMMARY:CANCELLED: POLYPHONY 3 :BOY EDGAR PRIZE TOUR FEAT. JASPER BLOM QUARTET W PABLO HELD
DESCRIPTION:Boy Edgar Prize Concert Tour\, the most prestigious award for jazz and improvised music in the Netherlands\, awarded to Jasper Blom. In POLYPHONY 3\, the prominent German jazz pianist Pablo Held\, winner of the Rising Star Award of the European Concert Hall Organization is featured. The JBQ are four internationally acclaimed Dutch jazz musicians\, that have been together for more than 12 years. Blom’s intelligent compositions cover a wide range of stylistic influences. Supported by the stellar playing of guitarist Jesse van Ruller and one of the most amazing European jazz drummers\, Martijn Vink\, the Jasper Blom Quartet is a true showcase of what melody\, rhythm and harmony have to offer in composition and improvisation. The JBQ performs regularly throughout Europe on major international festivals and in clubs. Under the name “POLYPHONY” the JBQ has started working with internationally acclaimed soloists. In POLYPHONY 3\, the Tone-clock system as developed by the Dutch classical composer Peter Schat is the departure point for newly composed music. Symmetrical tone rows and triads generated by the tone-clock system create new melodies\, new harmonies and new improvisation material. \nfor recent concert news and reviews of the Jasper Blom Quartet click here -> https://www.facebook.com/Jasperblomquartet/ \n
URL:https://jasperblom.com/index.php/event/polyphony-3-boy-edgar-prize-tour-feat-jasper-blom-quartet-w-pablo-held-10/
LOCATION:Mystiek theater\, Rigtersbleek-Zandvoort 10\, 7521 BE Enschede\, Enschede\, Netherlands
CATEGORIES:JBQ plus Pablo Held
ATTACH;FMTTYPE=image/jpeg:https://jasperblom.com/wp-content/uploads/2019/06/JBQ-plus-Pablo-Held-WEB-kopie.jpg
END:VEVENT
END:VCALENDAR