BEGIN:VCALENDAR
VERSION:2.0
PRODID:-//Jasper Blom - ECPv4.6.22//NONSGML v1.0//EN
CALSCALE:GREGORIAN
METHOD:PUBLISH
X-WR-CALNAME:Jasper Blom
X-ORIGINAL-URL:https://jasperblom.com
X-WR-CALDESC:Events for Jasper Blom
BEGIN:VEVENT
DTSTART;TZID=UTC+0:20250528T203000
DTEND;TZID=UTC+0:20250528T230000
DTSTAMP:20260419T210152
CREATED:20250206T144024Z
LAST-MODIFIED:20250206T144706Z
UID:993-1748464200-1748473200@jasperblom.com
SUMMARY:METROPOLARITY  album release concert JASPER BLOM QUARTET  plus METROPOLE ORKEST
DESCRIPTION:Saxophonist Jasper Blom strives for a synthesis of jazz\, pop\, classical and improvised music. This makes him a perfect match for the Metropole Orkest. Melody and adventure are keywords in the work of Blom\, who has been composing for a wide variety of ensembles for many years. He shared the stage with jazz legends\, but now it’s all about his smooth and versatile playing. \nA key figure in Dutch jazz\, Jasper Blom has led countless bands and sessions. As a tenor and soprano saxophonist\, he has performed with stars such as Lee Konitz and Chet Baker. Not surprisingly\, he received the Buma Boy Edgar Prize in 2019. His dream of collaborating with the Metropole Orkest is now coming true. Their joint album will take centre stage at this concert. \n \n
URL:https://jasperblom.com/index.php/event/metropolarity-album-release-concert-jasper-blom-quartet-plus-metropole-orkest/
LOCATION:MUZIEKGEBOUW aan het IJ AMSTERDAM\, Piet-Hein kade 1\, Amsterdam\, Noord Holland\, 1019 BR\, Netherlands
ATTACH;FMTTYPE=image/jpeg:https://jasperblom.com/wp-content/uploads/2025/01/JB-Metropolarity-Cover-Art-v1.0.jpg
ORGANIZER;CN="Muziekgebouw%20aan%20%27t%20IJ":MAILTO:kassa@muziekgebouw.nl
END:VEVENT
END:VCALENDAR