BEGIN:VCALENDAR
VERSION:2.0
PRODID:-//Jasper Blom - ECPv4.6.22//NONSGML v1.0//EN
CALSCALE:GREGORIAN
METHOD:PUBLISH
X-WR-CALNAME:Jasper Blom
X-ORIGINAL-URL:https://jasperblom.com
X-WR-CALDESC:Events for Jasper Blom
BEGIN:VEVENT
DTSTART;TZID=UTC+0:20180909T133000
DTEND;TZID=UTC+0:20180909T150000
DTSTAMP:20260420T044327
CREATED:20180907T211217Z
LAST-MODIFIED:20180907T211217Z
UID:357-1536499800-1536505200@jasperblom.com
SUMMARY:KRUPA and the GENES
DESCRIPTION:KRUPA and the GENES featuring on drums Joost Patocka and Stefan Kruger\, featuring on guitar Anton Goudsmit and Raphael Vanoli featuring on sax Maarten Hogenhuis and Jasper Blom\, held together by Sean Fasciani on bass. \n
URL:https://jasperblom.com/index.php/event/krupa-and-the-genes/
LOCATION:IJsseljazz\, Groeneweg 7\, Gorssel\, ZH\, 7213 DM\, Netherlands
ATTACH;FMTTYPE=image/jpeg:https://jasperblom.com/wp-content/uploads/2018/09/avatars-000079171080-q0bxpy-t500x500.jpg
END:VEVENT
END:VCALENDAR