BEGIN:VCALENDAR
VERSION:2.0
PRODID:-//Jasper Blom - ECPv4.6.22//NONSGML v1.0//EN
CALSCALE:GREGORIAN
METHOD:PUBLISH
X-WR-CALNAME:Jasper Blom
X-ORIGINAL-URL:https://jasperblom.com
X-WR-CALDESC:Events for Jasper Blom
BEGIN:VEVENT
DTSTART;TZID=UTC+0:20181216T080000
DTEND;TZID=UTC+0:20181216T170000
DTSTAMP:20260420T074944
CREATED:20180907T121035Z
LAST-MODIFIED:20180928T155826Z
UID:319-1544947200-1544979600@jasperblom.com
SUMMARY:POLYPHONY JASPER BLOM QUARTET + BERT JORIS & NILS WOGRAM
DESCRIPTION:Proudly celebrating our double live CD release  “POLYPHONY” out on UK label Whirlwind Recordings\, the Jasper Blom Quartet together with Bert Joris and Nils Wogram brings an evening of Jazz inspired by medieval polyphony and contemporary  tonality. \n
URL:https://jasperblom.com/index.php/event/jasper-blom-quartet/
LOCATION:Tivoli Vredenburg Utrecht\, Vredenburgkade 11\, Utrecht\, Utrecht\, 3511 WC\, Netherlands
ATTACH;FMTTYPE=image/png:https://jasperblom.com/wp-content/uploads/2018/07/2.png
ORGANIZER;CN="Tivoli%20Vredenburg":MAILTO:jasperblom@mac.com
END:VEVENT
END:VCALENDAR