BEGIN:VCALENDAR
VERSION:2.0
PRODID:-//Jasper Blom - ECPv4.6.22//NONSGML v1.0//EN
CALSCALE:GREGORIAN
METHOD:PUBLISH
X-WR-CALNAME:Jasper Blom
X-ORIGINAL-URL:https://jasperblom.com
X-WR-CALDESC:Events for Jasper Blom
BEGIN:VEVENT
DTSTART;TZID=UTC+0:20190609T160000
DTEND;TZID=UTC+0:20190609T190000
DTSTAMP:20260420T044149
CREATED:20190402T105147Z
LAST-MODIFIED:20190402T105350Z
UID:453-1560096000-1560106800@jasperblom.com
SUMMARY:Jasper Blom Quartet and Pablo Held
DESCRIPTION:
URL:https://jasperblom.com/index.php/event/jasper-blom-quartet-and-pablo-held/
LOCATION:hotel Victoria Damrak 1-5\, 1012 LG Amsterdam\, Damrak 1-5\,\, 1012 LG Amsterdam\, 1012 LG\, Netherlands
ATTACH;FMTTYPE=image/jpeg:https://jasperblom.com/wp-content/uploads/2018/07/MG_jasper-blomHR5160crop.jpg
END:VEVENT
END:VCALENDAR