BEGIN:VCALENDAR
VERSION:2.0
PRODID:-//Jasper Blom - ECPv4.6.22//NONSGML v1.0//EN
CALSCALE:GREGORIAN
METHOD:PUBLISH
X-WR-CALNAME:Jasper Blom
X-ORIGINAL-URL:https://jasperblom.com
X-WR-CALDESC:Events for Jasper Blom
BEGIN:VEVENT
DTSTART;TZID=UTC+0:20200915T203000
DTEND;TZID=UTC+0:20201009T230000
DTSTAMP:20260419T220617
CREATED:20200915T104215Z
LAST-MODIFIED:20200915T104300Z
UID:749-1600201800-1602284400@jasperblom.com
SUMMARY:Jasper Blom / Bram de Looze
DESCRIPTION:Saxofonist Jasper Blom speelde in 2019 in de Toonzaal voor het eerst 5 minuten samen met de Belgische pianist Bram de Looze tijdens de DUETS improvisatie estafette. \nPlannen om meer te spelen moesten daarna vanwege Corona in de ijskast worden gezet. Maar nu de Toonzaal terug is\, is Boy Edgar Prijs winnaar 2019 Jasper Blom ook terug met Bram de Looze\, een van de allergrootste nieuwe piano improvisatoren van dit moment. Het wordt een reis met onbekende bestemming en onderweg veel gespreksstof. \n
URL:https://jasperblom.com/index.php/event/bram-de-looze-jasper-blom/
LOCATION:Willem Twee toonzaal\, Prins Bernhardstraat 4\, Den Bosch\, Noord Brabant\, 5211 HE\, Netherlands
ATTACH;FMTTYPE=image/png:https://jasperblom.com/wp-content/uploads/2020/09/TZ-BLOM-DE-LOOZE.png
END:VEVENT
END:VCALENDAR