BEGIN:VCALENDAR
VERSION:2.0
PRODID:-//Jasper Blom - ECPv4.6.22//NONSGML v1.0//EN
CALSCALE:GREGORIAN
METHOD:PUBLISH
X-WR-CALNAME:Jasper Blom
X-ORIGINAL-URL:https://jasperblom.com
X-WR-CALDESC:Events for Jasper Blom
BEGIN:VEVENT
DTSTART;TZID=UTC+0:20181213T200000
DTEND;TZID=UTC+0:20181213T223000
DTSTAMP:20260420T025553
CREATED:20180907T202605Z
LAST-MODIFIED:20180928T155554Z
UID:337-1544731200-1544740200@jasperblom.com
SUMMARY:POLYPHONY JASPER BLOM QUARTET + BERT JORIS & NILS WOGRAM
DESCRIPTION:Proudly celebrating our double live CD release  “POLYPHONY” out on UK label Whirlwind Recordings\, the Jasper Blom Quartet together with Bert Joris and Nils Wogram brings an evening of Jazz inspired by medieval polyphony and contemporary  tonality. \n
URL:https://jasperblom.com/index.php/event/337/
LOCATION:Lantarenvenster Rotterdam\, Otto Reuchlinweg 996\, Rotterdam\, ZH\, 3072 MD\, Netherlands
ATTACH;FMTTYPE=image/png:https://jasperblom.com/wp-content/uploads/2018/07/2.png
ORGANIZER;CN="Lantarenvenster":MAILTO:mail@lantarenvenster.nl
END:VEVENT
END:VCALENDAR